BEGIN:VCALENDAR
VERSION:2.0
PRODID:-//IP.Board Calendar 4.6.4//EN
METHOD:PUBLISH
CALSCALE:GREGORIAN
X-WR-CALNAME:II Federacja Nordacka
BEGIN:VTIMEZONE
TZID:Europe/London
TZURL:http://tzurl.org/zoneinfo/Europe/London
X-LIC-LOCATION:Europe/London
BEGIN:DAYLIGHT
TZOFFSETFROM:+0000
TZOFFSETTO:+0100
TZNAME:BST
DTSTART:20250330T020000Z
RRULE:FREQ=YEARLY;BYMONTH=3;BYDAY=-1SU
END:DAYLIGHT
BEGIN:STANDARD
TZOFFSETFROM:+0100
TZOFFSETTO:+0000
TZNAME:GMT
DTSTART:20251026T020000Z
RRULE:FREQ=YEARLY;BYMONTH=10;BYDAY=-1SU
END:STANDARD
END:VTIMEZONE
BEGIN:VEVENT
SUMMARY:I Rozprávek - konsultacje Prezydent - Obywatele
DTSTAMP:20250515T143044Z
SEQUENCE:0
UID:30-4-5c4f0dcfe563e8b030772a1191c1f0a2@forum.nordata.org
ORGANIZER;CN="Waksman":nordacka_unia_informatyczna@nordata.o
	rg
DESCRIPTION:\n\n	I Rozprávek - konsultacje Prezydent - Obywatele\n\n
DTSTART:20250520T180000Z
DTEND:20250521T215900Z
END:VEVENT
END:VCALENDAR
